BEGIN:VCALENDAR
VERSION:2.0
PRODID:-//Alice Macdonald - ECPv6.6.2//NONSGML v1.0//EN
CALSCALE:GREGORIAN
METHOD:PUBLISH
X-WR-CALNAME:Alice Macdonald
X-ORIGINAL-URL:https://alicemacdonald.org
X-WR-CALDESC:Events for Alice Macdonald
REFRESH-INTERVAL;VALUE=DURATION:PT1H
X-Robots-Tag:noindex
X-PUBLISHED-TTL:PT1H
BEGIN:VTIMEZONE
TZID:UTC
BEGIN:STANDARD
TZOFFSETFROM:+0000
TZOFFSETTO:+0000
TZNAME:UTC
DTSTART:20240101T000000
END:STANDARD
END:VTIMEZONE
BEGIN:VEVENT
DTSTART;TZID=UTC:20250906T100000
DTEND;TZID=UTC:20250906T120000
DTSTAMP:20260422T153120
CREATED:20250513T144656Z
LAST-MODIFIED:20250827T132350Z
UID:5441-1757152800-1757160000@alicemacdonald.org
SUMMARY:FULLY BOOKED - Constituency Surgery - 10-12noon\, Sprowston
DESCRIPTION:My constituency surgeries are open to all constituents of Norwich North who need support or assistance with issues in their daily lives. I am always here to listen. Please book a slot by calling 01603 733182 or emailing alice.macdonald.mp@parliament.uk
URL:https://alicemacdonald.org/event/constituency-surgery-10-12noon-sprowston/
END:VEVENT
BEGIN:VEVENT
DTSTART;TZID=UTC:20250820T160000
DTEND;TZID=UTC:20250820T173000
DTSTAMP:20260422T153120
CREATED:20250730T090643Z
LAST-MODIFIED:20250730T090643Z
UID:5717-1755705600-1755711000@alicemacdonald.org
SUMMARY:Constituency Surgery - 4-5:30PM\, Mile Cross
DESCRIPTION:If you have a particular issue you’d like to discuss\, or you need support and advice\, book an appointment at my next surgery by contacting my office on alice.macdonald.mp@parliament.uk or calling 01603733182. \nPlease note that spaces are limited to provide the best support for each individual – I hold regular surgeries\, but you can always get in touch with my office for support over email and telephone. \nThe location of the event will be shared with attendees closer to the time.
URL:https://alicemacdonald.org/event/constituency-surgery-4-530pm-mile-cross/
END:VEVENT
BEGIN:VEVENT
DTSTART;TZID=UTC:20250819T173000
DTEND;TZID=UTC:20250819T190000
DTSTAMP:20260422T153120
CREATED:20250730T090255Z
LAST-MODIFIED:20250730T090255Z
UID:5715-1755624600-1755630000@alicemacdonald.org
SUMMARY:Meet Your MP - 5:30-7PM\, Sprowston
DESCRIPTION:Come along to discuss local issues and share your thoughts. \nYou can book your place by emailing alice.macdonald.mp@parliament.uk or calling 01603 733182. The location of the event will be shared with attendees closer to the date.
URL:https://alicemacdonald.org/event/meet-your-mp-530-7pm-sprowston/
END:VEVENT
BEGIN:VEVENT
DTSTART;TZID=UTC:20250730T163000
DTEND;TZID=UTC:20250730T180000
DTSTAMP:20260422T153120
CREATED:20250730T090841Z
LAST-MODIFIED:20250730T090841Z
UID:5719-1753893000-1753898400@alicemacdonald.org
SUMMARY:Housing Forum - 4:30-6PM\, Heartsease
DESCRIPTION:Together with local councillors\, I will be holding a Housing Forum in the Heartsease area on Wednesday 30th July from 4.30pm to 6pm.\n\n\n\nThis event will be open to all Norwich North constituents wanting to discuss issues and policy relating to housing and will be an opportunity for you to raise any individual concerns you may have.\n\n\n\nIf you would like to come along and talk to me and my team\, please email: alice.macdonald.mp@parliament.uk or call 01603 733182 to book a place.\n\nDetails of the venue will be made available a few days prior to the event with attendees.
URL:https://alicemacdonald.org/event/housing-forum-430-6pm-heartsease/
END:VEVENT
BEGIN:VEVENT
DTSTART;TZID=UTC:20250628T100000
DTEND;TZID=UTC:20250628T113000
DTSTAMP:20260422T153120
CREATED:20250513T143429Z
LAST-MODIFIED:20250513T143629Z
UID:5437-1751104800-1751110200@alicemacdonald.org
SUMMARY:Coffee Morning
DESCRIPTION:Catton Grove Coffee Morning – Saturday 28th June\, 10-11:30am – Come along to discuss local issues\, ask for support or to share your thoughts. \nPlease email alice.macdonald.mp@parliament.uk or call 01603 733182 to register your interest in attending. Location will be shared with attendees closer to the date of the event.
URL:https://alicemacdonald.org/event/coffee-morning/
END:VEVENT
BEGIN:VEVENT
DTSTART;TZID=UTC:20250607T100000
DTEND;TZID=UTC:20250607T120000
DTSTAMP:20260422T153120
CREATED:20250327T102653Z
LAST-MODIFIED:20250327T102653Z
UID:5340-1749290400-1749297600@alicemacdonald.org
SUMMARY:Constituency Surgery - 10-12noon\, Thorpe St. Andrews
DESCRIPTION:My constituency surgeries are open to all constituents of Norwich North who need support or assistance with issues in their daily lives. I am always here to listen. Please book a slot by calling 01603 733182 or emailing alice.macdonald.mp@parliament.uk
URL:https://alicemacdonald.org/event/constituency-surgery-10-12noon-thorpe-st-andrews/
END:VEVENT
BEGIN:VEVENT
DTSTART;TZID=UTC:20250522T163000
DTEND;TZID=UTC:20250522T180000
DTSTAMP:20260422T153120
CREATED:20250513T142702Z
LAST-MODIFIED:20250513T143735Z
UID:5435-1747931400-1747936800@alicemacdonald.org
SUMMARY:SEND Forum
DESCRIPTION:Thursday 22nd May\, 4:30pm \nThis event will bring together parents\, carers\, teachers\, and anyone with an interest or experience of the Special Educational Needs and Disabilities system in North Norwich to share their thoughts. If you would like to attend\, please register your interest by emailing alice.macdonald.mp@parliament.uk \nLocation will be shared with attendees closer to the event
URL:https://alicemacdonald.org/event/send-forum/
END:VEVENT
BEGIN:VEVENT
DTSTART;TZID=UTC:20250517T100000
DTEND;TZID=UTC:20250517T120000
DTSTAMP:20260422T153120
CREATED:20250327T102331Z
LAST-MODIFIED:20250327T102501Z
UID:5336-1747476000-1747483200@alicemacdonald.org
SUMMARY:Constituency Surgery - 10-12noon\, Drayton
DESCRIPTION:My constituency surgeries are open to all constituents of Norwich North who need support or assistance with issues in their daily lives. I am always here to listen. Please book a slot by calling 01603 733182 or emailing alice.macdonald.mp@parliament.uk
URL:https://alicemacdonald.org/event/constituency-surgery-drayton-10-12noon/
END:VEVENT
BEGIN:VEVENT
DTSTART;TZID=UTC:20250405T100000
DTEND;TZID=UTC:20250405T120000
DTSTAMP:20260422T153120
CREATED:20250326T144209Z
LAST-MODIFIED:20250327T102426Z
UID:5330-1743847200-1743854400@alicemacdonald.org
SUMMARY:Constituency Surgery  - 10-12noon\, Sprowston
DESCRIPTION:My constituency surgeries are open to all constituents of Norwich North who need support or assistance with issues in their daily lives. I am always here to listen. \nPlease book a slot by calling 01603 733182 or emailing alice.macdonald.mp@parliament.uk \n 
URL:https://alicemacdonald.org/event/constituency-surgery-10-12noon-the-diamond-centre-sprowston/
END:VEVENT
BEGIN:VEVENT
DTSTART;TZID=UTC:20250104T100000
DTEND;TZID=UTC:20250104T120000
DTSTAMP:20260422T153120
CREATED:20241001T092615Z
LAST-MODIFIED:20241001T092615Z
UID:4810-1735984800-1735992000@alicemacdonald.org
SUMMARY:Constituency Surgery
DESCRIPTION:If you would like to book an appointment at a surgery\, please email alice.macdonald.mp@parliament.uk \nVenue to be confirmed once booking is made.
URL:https://alicemacdonald.org/event/constituency-surgery-8/
LOCATION:Old Catton
END:VEVENT
BEGIN:VEVENT
DTSTART;TZID=UTC:20241220T100000
DTEND;TZID=UTC:20241220T120000
DTSTAMP:20260422T153120
CREATED:20241001T092506Z
LAST-MODIFIED:20241001T092506Z
UID:4808-1734688800-1734696000@alicemacdonald.org
SUMMARY:Constituency Surgery
DESCRIPTION:If you would like to book an appointment at a surgery\, please email alice.macdonald.mp@parliament.uk \nVenue to be confirmed once booking is made.
URL:https://alicemacdonald.org/event/constituency-surgery-7/
END:VEVENT
BEGIN:VEVENT
DTSTART;TZID=UTC:20241207T103000
DTEND;TZID=UTC:20241207T120000
DTSTAMP:20260422T153120
CREATED:20240910T115016Z
LAST-MODIFIED:20240910T115016Z
UID:4766-1733567400-1733572800@alicemacdonald.org
SUMMARY:Constituency Surgery
DESCRIPTION:If you would like to book an appointment at a surgery\, please email alice.macdonald.mp@parliament.uk
URL:https://alicemacdonald.org/event/constituency-surgery-4/
END:VEVENT
BEGIN:VEVENT
DTSTART;TZID=UTC:20241115T150000
DTEND;TZID=UTC:20241115T170000
DTSTAMP:20260422T153120
CREATED:20241001T092429Z
LAST-MODIFIED:20241001T092429Z
UID:4805-1731682800-1731690000@alicemacdonald.org
SUMMARY:Constituency Surgery
DESCRIPTION:If you would like to book an appointment at a surgery\, please email alice.macdonald.mp@parliament.uk \nVenue to be confirmed once booking is made.
URL:https://alicemacdonald.org/event/constituency-surgery-6/
LOCATION:Sewell
END:VEVENT
BEGIN:VEVENT
DTSTART;TZID=UTC:20241102T103000
DTEND;TZID=UTC:20241102T120000
DTSTAMP:20260422T153120
CREATED:20240910T114947Z
LAST-MODIFIED:20240910T114947Z
UID:4764-1730543400-1730548800@alicemacdonald.org
SUMMARY:Constituency Surgery
DESCRIPTION:If you would like to book an appointment at a surgery\, please email alice.macdonald.mp@parliament.uk
URL:https://alicemacdonald.org/event/constituency-surgery-3/
END:VEVENT
BEGIN:VEVENT
DTSTART;TZID=UTC:20241018T160000
DTEND;TZID=UTC:20241018T180000
DTSTAMP:20260422T153120
CREATED:20241001T092327Z
LAST-MODIFIED:20241001T092327Z
UID:4803-1729267200-1729274400@alicemacdonald.org
SUMMARY:Constituency Surgery
DESCRIPTION:If you would like to book an appointment at a surgery\, please email alice.macdonald.mp@parliament.uk \nVenue to be confirmed once booking is made.
URL:https://alicemacdonald.org/event/constituency-surgery-5/
END:VEVENT
BEGIN:VEVENT
DTSTART;TZID=UTC:20240824T103000
DTEND;TZID=UTC:20240824T120000
DTSTAMP:20260422T153120
CREATED:20240828T083432Z
LAST-MODIFIED:20240828T083449Z
UID:4530-1724495400-1724500800@alicemacdonald.org
SUMMARY:Constituency Surgery
DESCRIPTION:
URL:https://alicemacdonald.org/event/constituency-surgery/
LOCATION:Drayton
ATTACH;FMTTYPE=image/jpeg:https://alicemacdonald.org/wp-content/uploads/2024/08/24th-CS-2024.jpeg
END:VEVENT
END:VCALENDAR